BEGIN:VCALENDAR
VERSION:2.0
PRODID:-//JobPath - ECPv6.15.20//NONSGML v1.0//EN
CALSCALE:GREGORIAN
METHOD:PUBLISH
X-WR-CALNAME:JobPath
X-ORIGINAL-URL:https://jobpath.org
X-WR-CALDESC:Events for JobPath
REFRESH-INTERVAL;VALUE=DURATION:PT1H
X-Robots-Tag:noindex
X-PUBLISHED-TTL:PT1H
BEGIN:VTIMEZONE
TZID:America/Phoenix
BEGIN:STANDARD
TZOFFSETFROM:-0700
TZOFFSETTO:-0700
TZNAME:MST
DTSTART:20230101T000000
END:STANDARD
END:VTIMEZONE
BEGIN:VEVENT
DTSTART;TZID=America/Phoenix:20241021T150000
DTEND;TZID=America/Phoenix:20241021T154500
DTSTAMP:20260424T023124
CREATED:20240930T164627Z
LAST-MODIFIED:20240930T164627Z
UID:10000576-1729522800-1729525500@jobpath.org
SUMMARY:JobPath Student Information Session
DESCRIPTION:JobPath info sessions are held virtually via Zoom. You must register prior to the Session start time. Once you register\, you will receive an email confirmation from Zoom with the meeting login information. \nPlease be sure to sign onto the session at the scheduled start. \nClick here to sign up for an info session
URL:https://jobpath.org/event/https-us02web-zoom-us-meeting-register-tzatd-murj8ogtb1fkg_uxfqtnjre5m2at_0/
CATEGORIES:Orientation Calendar
ATTACH;FMTTYPE=image/svg+xml:https://jobpath.org/wp-content/uploads/jp-header-gen.svg
END:VEVENT
END:VCALENDAR