BEGIN:VCALENDAR
VERSION:2.0
PRODID:-//JobPath - ECPv6.15.20//NONSGML v1.0//EN
CALSCALE:GREGORIAN
METHOD:PUBLISH
X-ORIGINAL-URL:https://jobpath.org
X-WR-CALDESC:Events for JobPath
REFRESH-INTERVAL;VALUE=DURATION:PT1H
X-Robots-Tag:noindex
X-PUBLISHED-TTL:PT1H
BEGIN:VTIMEZONE
TZID:America/Phoenix
BEGIN:STANDARD
TZOFFSETFROM:-0700
TZOFFSETTO:-0700
TZNAME:MST
DTSTART:20250101T000000
END:STANDARD
END:VTIMEZONE
BEGIN:VEVENT
DTSTART;TZID=America/Phoenix:20260114T090000
DTEND;TZID=America/Phoenix:20260114T094500
DTSTAMP:20260423T033122
CREATED:20251218T182603Z
LAST-MODIFIED:20251218T182603Z
UID:10000692-1768381200-1768383900@jobpath.org
SUMMARY:JobPath Student Information Session (Cochise & Pima County Residents ONLY)
DESCRIPTION:JobPath info sessions are held virtually via Zoom. \nOnce you register\, you will receive an email confirmation from Zoom with the meeting login information. \nPlease be sure to sign on to the session at the scheduled start. Info sessions begin promptly as scheduled. Due to the short duration of the session\, there will be no admittance after the first 5 minutes. \nClick here to sign up for an info session
URL:https://jobpath.org/event/jobpath-student-information-session-cochise-pima-county-residents-only-19/
CATEGORIES:Orientation Calendar
ATTACH;FMTTYPE=image/svg+xml:https://jobpath.org/wp-content/uploads/jp-header-gen.svg
END:VEVENT
END:VCALENDAR