BEGIN:VCALENDAR
VERSION:2.0
PRODID:-//JobPath - ECPv6.15.20//NONSGML v1.0//EN
CALSCALE:GREGORIAN
METHOD:PUBLISH
X-ORIGINAL-URL:https://jobpath.org
X-WR-CALDESC:Events for JobPath
REFRESH-INTERVAL;VALUE=DURATION:PT1H
X-Robots-Tag:noindex
X-PUBLISHED-TTL:PT1H
BEGIN:VTIMEZONE
TZID:America/Phoenix
BEGIN:STANDARD
TZOFFSETFROM:-0700
TZOFFSETTO:-0700
TZNAME:MST
DTSTART:20240101T000000
END:STANDARD
END:VTIMEZONE
BEGIN:VEVENT
DTSTART;TZID=America/Phoenix:20250402T110000
DTEND;TZID=America/Phoenix:20250402T120000
DTSTAMP:20260424T012217
CREATED:20250327T203842Z
LAST-MODIFIED:20250403T172934Z
UID:10000644-1743591600-1743595200@jobpath.org
SUMMARY:JobPath Student Information Session (Cochise & Pima County Residents ONLY)
DESCRIPTION:JobPath info sessions are held virtually via Zoom. You must register prior to the Session start time. Once you register\, you will receive an email confirmation from Zoom with the meeting login information. \nPlease be sure to sign onto the session at the scheduled start. \nClick here to sign up for an info session
URL:https://jobpath.org/event/https-us02web-zoom-us-meeting-register-kzvnp02aqs-bv1st_hlrpa/
CATEGORIES:Orientation Calendar
ATTACH;FMTTYPE=image/svg+xml:https://jobpath.org/wp-content/uploads/jp-header-gen.svg
END:VEVENT
BEGIN:VEVENT
DTSTART;TZID=America/Phoenix:20250409T160000
DTEND;TZID=America/Phoenix:20250409T170000
DTSTAMP:20260424T012217
CREATED:20250403T173621Z
LAST-MODIFIED:20250403T173621Z
UID:10000647-1744214400-1744218000@jobpath.org
SUMMARY:JobPath Student Information Session (Cochise & Pima County Residents ONLY)
DESCRIPTION:JobPath info sessions are held virtually via Zoom. You must register prior to the Session start time. Once you register\, you will receive an email confirmation from Zoom with the meeting login information. \nPlease be sure to sign onto the session at the scheduled start. \nClick here to sign up for an info session
URL:https://jobpath.org/event/jobpath-student-information-session-cochise-pima-county-residents-only/
CATEGORIES:Orientation Calendar
ATTACH;FMTTYPE=image/svg+xml:https://jobpath.org/wp-content/uploads/jp-header-gen.svg
END:VEVENT
BEGIN:VEVENT
DTSTART;TZID=America/Phoenix:20250414T163000
DTEND;TZID=America/Phoenix:20250414T173000
DTSTAMP:20260424T012217
CREATED:20250327T204233Z
LAST-MODIFIED:20250327T204233Z
UID:10000645-1744648200-1744651800@jobpath.org
SUMMARY:JobPath Student Information Session (Cochise & Pima County Residents ONLY)
DESCRIPTION:JobPath info sessions are held virtually via Zoom. You must register prior to the Session start time. Once you register\, you will receive an email confirmation from Zoom with the meeting login information. \nPlease be sure to sign onto the session at the scheduled start. \nClick here to sign up for an info session
URL:https://jobpath.org/event/https-us02web-zoom-us-meeting-register-vu2zizrltze8yiekrps7iq/
CATEGORIES:Orientation Calendar
ATTACH;FMTTYPE=image/svg+xml:https://jobpath.org/wp-content/uploads/jp-header-gen.svg
END:VEVENT
BEGIN:VEVENT
DTSTART;TZID=America/Phoenix:20250424T110000
DTEND;TZID=America/Phoenix:20250424T120000
DTSTAMP:20260424T012217
CREATED:20250403T174019Z
LAST-MODIFIED:20250403T174019Z
UID:10000648-1745492400-1745496000@jobpath.org
SUMMARY:JobPath Student Information Session (Cochise & Pima County Residents ONLY)
DESCRIPTION:JobPath info sessions are held virtually via Zoom. You must register prior to the Session start time. Once you register\, you will receive an email confirmation from Zoom with the meeting login information. \nPlease be sure to sign onto the session at the scheduled start. \nClick here to sign up for an info session
URL:https://jobpath.org/event/jobpath-student-information-session-cochise-pima-county-residents-only-2/
CATEGORIES:Orientation Calendar
ATTACH;FMTTYPE=image/svg+xml:https://jobpath.org/wp-content/uploads/jp-header-gen.svg
END:VEVENT
BEGIN:VEVENT
DTSTART;TZID=America/Phoenix:20250430T113000
DTEND;TZID=America/Phoenix:20250430T123000
DTSTAMP:20260424T012217
CREATED:20250327T204541Z
LAST-MODIFIED:20250403T172834Z
UID:10000646-1746012600-1746016200@jobpath.org
SUMMARY:JobPath Student Information Session (Cochise & Pima County Residents ONLY)
DESCRIPTION:JobPath info sessions are held virtually via Zoom. You must register prior to the Session start time. Once you register\, you will receive an email confirmation from Zoom with the meeting login information. \nPlease be sure to sign onto the session at the scheduled start. \nClick here to sign up for an info session
URL:https://jobpath.org/event/https-us02web-zoom-us-meeting-register-rcrl0ki1saqxbiy5hqpyqg/
CATEGORIES:Orientation Calendar
ATTACH;FMTTYPE=image/svg+xml:https://jobpath.org/wp-content/uploads/jp-header-gen.svg
END:VEVENT
END:VCALENDAR