BEGIN:VCALENDAR
VERSION:2.0
PRODID:-//JobPath - ECPv6.15.20//NONSGML v1.0//EN
CALSCALE:GREGORIAN
METHOD:PUBLISH
X-ORIGINAL-URL:https://jobpath.org
X-WR-CALDESC:Events for JobPath
REFRESH-INTERVAL;VALUE=DURATION:PT1H
X-Robots-Tag:noindex
X-PUBLISHED-TTL:PT1H
BEGIN:VTIMEZONE
TZID:America/Phoenix
BEGIN:STANDARD
TZOFFSETFROM:-0700
TZOFFSETTO:-0700
TZNAME:MST
DTSTART:20240101T000000
END:STANDARD
END:VTIMEZONE
BEGIN:VEVENT
DTSTART;VALUE=DATE:20251224
DTEND;VALUE=DATE:20260103
DTSTAMP:20260425T065656
CREATED:20251015T192620Z
LAST-MODIFIED:20251219T195413Z
UID:10000681-1766534400-1767398399@jobpath.org
SUMMARY:JobPath Office Closed
DESCRIPTION:
URL:https://jobpath.org/event/jobpath-office-closed-9/
CATEGORIES:Orientation Calendar,Workforce Info Session Calendar,Workforce Readiness Calendar
END:VEVENT
END:VCALENDAR